BEGIN:VCALENDAR
VERSION:2.0
PRODID:-//eventon.com NONSGML v1.0//EN
CALSCALE:GREGORIAN
METHOD:PUBLISH
BEGIN:VEVENT
UID:69ed88549c087
DTSTAMP:20260426T033652Z
DTSTART:20250720T090000Z
DTEND:20250721T170000Z
LOCATION:Tillers International 10515 E OP Ave. Scotts\,  MI 49008
SUMMARY:Blacksmithing I
DESCRIPTION:This fast-paced introduction to smithing moves you through the 
 fundamentals: basic hammer skills\,  heat treating\,  forge welding\,  and 
 identification of “found” steels. By the end of the second day students
  will be turned loose to make interesting forged pieces with the support an
 d collaboration of a blacksmith with 30 years[..]\nhttps://tillersinternati
 onal.org/events/blacksmithing-i/
URL:https://tillersinternational.org/events/blacksmithing-i/
END:VEVENT
END:VCALENDAR