BEGIN:VCALENDAR
VERSION:2.0
PRODID:-//eventon.com NONSGML v1.0//EN
CALSCALE:GREGORIAN
METHOD:PUBLISH
BEGIN:VEVENT
UID:69e734b21363d
DTSTAMP:20260421T082626Z
DTSTART:20261016T130000Z
DTEND:20261018T210000Z
LOCATION:Tillers International 10515 E OP Ave. Scotts\,  MI 49008
SUMMARY:Coopering  Tankard
DESCRIPTION:These containers were traditionally used as drinking vessels. W
 e will make them in pine\,  like the originals\,  but will use metal bands 
 instead of traditional wooden bands. The Mary Rose was a 16th-century Engli
 sh naval warship. Its wreck was rediscovered off the coast of the Isle of W
 ight in 1971.[..]\nhttps://tillersinternational.org/events/coopering-tankar
 d-3/
URL:https://tillersinternational.org/events/coopering-tankard-3/
END:VEVENT
END:VCALENDAR