BEGIN:VCALENDAR
VERSION:2.0
PRODID:-//eventon.com NONSGML v1.0//EN
CALSCALE:GREGORIAN
METHOD:PUBLISH
BEGIN:VEVENT
UID:69e8890f705f8
DTSTAMP:20260422T083839Z
DTSTART:20260830T130000Z
DTEND:20260830T160000Z
LOCATION:Tillers International 10515 E OP Ave. Scotts\,  MI 49008
SUMMARY:Foraged Home Remedy Making Workshop
DESCRIPTION:Discover how to turn wild plants into effective herbal remedies
  in this hands-on workshop. We’ll explore the properties and uses of yar
 row\,  elderberry\,  cherry bark\,  and mullein\,  along with additional h
 erbs for supporting the body through several common ailments. You’ll le
 arn basic plant identification\,  safe usage\,  and practical methods for
  preparing tinctures\,  salves\,  teas and more at home. Designed[..]\nh
 ttps://tillersinternational.org/events/foraged-home-remedy-making-workshop/
URL:https://tillersinternational.org/events/foraged-home-remedy-making-workshop/
END:VEVENT
END:VCALENDAR