BEGIN:VCALENDAR
VERSION:2.0
PRODID:-//eventon.com NONSGML v1.0//EN
CALSCALE:GREGORIAN
METHOD:PUBLISH
BEGIN:VEVENT
UID:69e8856710ae7
DTSTAMP:20260422T082303Z
DTSTART:20260829T130000Z
DTEND:20260829T210000Z
LOCATION:Tillers International 10515 E OP Ave. Scotts\,  MI 49008
SUMMARY:Pine Needle Basketry
DESCRIPTION:Learn the ancient skill of basketry with common&nbsp;pine trees
  found in&nbsp;Michigan.&nbsp;Celebrate native flora and learn about identi
 fying&nbsp;the differences between red\,  white\,  and Jack pine trees (wit
 h real life examples).&nbsp; Use&nbsp;pine needles&nbsp;to craft a small ba
 sket (perfectly sized for holding keys or jewelry)\,  plus gain timeless kn
 owledge to create endless designs.[..]\nhttps://tillersinternational.org/ev
 ents/pine-needle-basketry/
URL:https://tillersinternational.org/events/pine-needle-basketry/
END:VEVENT
END:VCALENDAR