BEGIN:VCALENDAR
VERSION:2.0
PRODID:-//eventon.com NONSGML v1.0//EN
CALSCALE:GREGORIAN
METHOD:PUBLISH
BEGIN:VEVENT
UID:69e5d534d336b
DTSTAMP:20260420T072644Z
DTSTART:20260702T190000Z
DTEND:20260702T220000Z
LOCATION:Tillers International 10515 E OP Ave. Scotts\,  MI 49008
SUMMARY:Intermediate Sourdough Baking
DESCRIPTION:Take your sourdough skills beyond the basic loaf in this interm
 ediate-level class. Designed for sourdough bakers with some experience\,  w
 e’ll explore creative ways to use and maintain your starter\,  including 
 working with alternative flours and incorporating flavorful add-ins. Learn 
 how to make the most of your discard with a variety[..]\nhttps://tillersint
 ernational.org/events/intermediate-sourdough-baking/
URL:https://tillersinternational.org/events/intermediate-sourdough-baking/
END:VEVENT
END:VCALENDAR